BEGIN:VCALENDAR
VERSION:2.0
PRODID:spatie/icalendar-generator
DESCRIPTION:Veranstaltungen von Sachausschuss Kirchenmusik St. Josef\, Weid
 en
X-WR-CALDESC:Veranstaltungen von Sachausschuss Kirchenmusik St. Josef\, Wei
 den
REFRESH-INTERVAL;VALUE=DURATION:PT1440M
X-PUBLISHED-TTL:PT1440M
BEGIN:VTIMEZONE
TZID:Etc/GMT-1
BEGIN:STANDARD
DTSTART:20240115T193000Z
TZOFFSETFROM:+0100
TZOFFSETTO:+0100
END:STANDARD
END:VTIMEZONE
BEGIN:VTIMEZONE
TZID:UTC
BEGIN:STANDARD
DTSTART:20250724T112428Z
TZOFFSETFROM:+0000
TZOFFSETTO:+0000
END:STANDARD
END:VTIMEZONE
BEGIN:VEVENT
UID:29-26
DTSTAMP:20260420T112428Z
SUMMARY:Orgel+Kino
LOCATION:Kirche St. Josef Bgm.-Prechtl-Straße 15  Weiden Bayern 92637
ORGANIZER;CN=Foerderkreis1901:MAILTO:rmlnew@gmail.com
DTSTART;TZID=Etc/GMT-1:20241011T193000
DTEND;TZID=Etc/GMT-1:20241011T204500
X-ALT-DESC;FMTTYPE=TEXT/HTML:Gezeigt wird der Stummfilm von und mit Harold 
 Lloyd \"The Freshman\" Orgel-Live-Improvisation: Alexander Pointner\, Mün
 chen Westend
CATEGORIES:Chormusik
URL;VALUE=URI:https://kirchenmusik.weiden-st-josef.de/mc-events/orgelkino-2
 /
METHOD:PUBLISH
END:VEVENT
END:VCALENDAR