BEGIN:VCALENDAR
VERSION:2.0
PRODID:spatie/icalendar-generator
DESCRIPTION:Veranstaltungen von Sachausschuss Kirchenmusik St. Josef\, Weid
 en
X-WR-CALDESC:Veranstaltungen von Sachausschuss Kirchenmusik St. Josef\, Wei
 den
REFRESH-INTERVAL;VALUE=DURATION:PT1440M
X-PUBLISHED-TTL:PT1440M
BEGIN:VTIMEZONE
TZID:Etc/GMT-1
BEGIN:STANDARD
DTSTART:20240626T150000Z
TZOFFSETFROM:+0100
TZOFFSETTO:+0100
END:STANDARD
END:VTIMEZONE
BEGIN:VTIMEZONE
TZID:UTC
BEGIN:STANDARD
DTSTART:20250729T104232Z
TZOFFSETFROM:+0000
TZOFFSETTO:+0000
END:STANDARD
END:VTIMEZONE
BEGIN:VEVENT
UID:36-31
DTSTAMP:20260425T104232Z
SUMMARY:Frühling für die Seele - musikalisch gestaltete Andacht in der Ki
 rche St. Johannes Nepomuk\, Letzau
LOCATION:St. Johannes Nepomuk\, Letzau Kirchenstraße 3  Theisseil  92637
ORGANIZER;CN=Foerderkreis1901:MAILTO:rmlnew@gmail.com
DTSTART;TZID=Etc/GMT-1:20250323T150000
DTEND;TZID=Etc/GMT-1:20250323T160000
X-ALT-DESC;FMTTYPE=TEXT/HTML:Mitwirkende: OGF (Ingeborg Hofmann\, Orgel Eva
  Danzl\, Gesang Cornelia Kick\, Flöte) Flautista unter der Leitung von Co
 rnelia Kick Lektoren: Doris Kick\, Dr. Thomas Kreuzer Programm Georg Fried
 rich Händel (1685 – 1759) Wassermusik (Bearbeitung von Albrecht Rosenst
 engel) Flautista Johann Anton Kobrich (1714-1791) Missa in B Dur OGF Pierr
 e-Max Dubois (1930 -1995) Quatre Promenades Flautista Gustav Gunsenheimer&amp;
 hellip\;
CATEGORIES:Konzert
URL;VALUE=URI:https://kirchenmusik.weiden-st-josef.de/mc-events/fruehling-f
 uer-die-seele-musikalisch-gestaltete-andacht-in-der-kirche-st-johannes-nep
 omuk-letzau/
METHOD:PUBLISH
END:VEVENT
END:VCALENDAR