BEGIN:VCALENDAR
VERSION:2.0
PRODID:spatie/icalendar-generator
DESCRIPTION:Veranstaltungen von Sachausschuss Kirchenmusik St. Josef\, Weid
 en
X-WR-CALDESC:Veranstaltungen von Sachausschuss Kirchenmusik St. Josef\, Wei
 den
REFRESH-INTERVAL;VALUE=DURATION:PT1440M
X-PUBLISHED-TTL:PT1440M
BEGIN:VTIMEZONE
TZID:Etc/GMT-1
BEGIN:STANDARD
DTSTART:20240710T153000Z
TZOFFSETFROM:+0100
TZOFFSETTO:+0100
END:STANDARD
END:VTIMEZONE
BEGIN:VTIMEZONE
TZID:UTC
BEGIN:STANDARD
DTSTART:20250723T125657Z
TZOFFSETFROM:+0000
TZOFFSETTO:+0000
END:STANDARD
END:VTIMEZONE
BEGIN:VEVENT
UID:38-33
DTSTAMP:20260419T125657Z
SUMMARY:Geistliche Musik zur Passion - Joseph Haydn: Die sieben Worte Jesu 
 am Kreuz
LOCATION:Kirche St. Josef Bgm.-Prechtl-Straße 15  Weiden Bayern 92637
ORGANIZER;CN=Foerderkreis1901:MAILTO:rmlnew@gmail.com
DTSTART;TZID=Etc/GMT-1:20250406T153000
DTEND;TZID=Etc/GMT-1:20250406T163000
X-ALT-DESC;FMTTYPE=TEXT/HTML:Programm \"Introduction\" (Einführung) Sonate
  I \"Pater dimitte illis\, non enim sciunt\, quid faciunt\" Vater\, vergib
  ihnen\, denn sie wissen nicht was sie tun Sonate II \"Amen\, dico tibi: h
 odie mecum eris in paradiso\" Wahrlich\, ich sage dir: heute wirst du mit 
 mir im Paradiese sein Sonate III \"Mulier\, ecce filius tuus\, et tu\, ecc
 e mater&amp;hellip\;
CATEGORIES:Konzert
URL;VALUE=URI:https://kirchenmusik.weiden-st-josef.de/mc-events/geistliche-
 musik-zur-passion-joseph-haydn-die-sieben-worte-jesu-am-kreuz/
METHOD:PUBLISH
END:VEVENT
END:VCALENDAR