BEGIN:VCALENDAR
VERSION:2.0
PRODID:spatie/icalendar-generator
DESCRIPTION:Veranstaltungen von Sachausschuss Kirchenmusik St. Josef\, Weid
 en
X-WR-CALDESC:Veranstaltungen von Sachausschuss Kirchenmusik St. Josef\, Wei
 den
REFRESH-INTERVAL;VALUE=DURATION:PT1440M
X-PUBLISHED-TTL:PT1440M
BEGIN:VTIMEZONE
TZID:Etc/GMT-1
BEGIN:STANDARD
DTSTART:20220525T155500Z
TZOFFSETFROM:+0100
TZOFFSETTO:+0100
END:STANDARD
END:VTIMEZONE
BEGIN:VTIMEZONE
TZID:UTC
BEGIN:STANDARD
DTSTART:20250723T140038Z
TZOFFSETFROM:+0000
TZOFFSETTO:+0000
END:STANDARD
END:VTIMEZONE
BEGIN:VEVENT
UID:5-5
DTSTAMP:20260419T140038Z
SUMMARY:Faschingskonzert
LOCATION:Kirche St. Josef Bgm.-Prechtl-Straße 15  Weiden Bayern 92637
ORGANIZER;CN=Foerderkreis1901:MAILTO:rmlnew@gmail.com
DTSTART;TZID=Etc/GMT-1:20230219T155500
DTEND;TZID=Etc/GMT-1:20230219T165500
X-ALT-DESC;FMTTYPE=TEXT/HTML:Programm: Marcia (Giovanni Martinenghi) Piotr 
 Pająk Begrüßung Kaplan Wolfgang Weyer Polka (Komponist unbekannt) Piotr
  Pająk Triumphal Marsch von Aida (Giuseppe Verdi) Piotr Pająk „Andante
  mosso“ aus der „Versetti per Gloria“ (Vincenzo Antonio Petrali) Pio
 tr Pająk Adagio Cantabile aus Sonata No.8 “Pathétique“ Ludwig van Be
 ethoven) Piotr Pająk Walzer No.2 (Dmitri Schostakowitsch\, Bearb. Richard
  Kula) Piotr Pająk&amp;hellip\;
CATEGORIES:General
URL;VALUE=URI:https://kirchenmusik.weiden-st-josef.de/mc-events/faschingsko
 nzert/
METHOD:PUBLISH
END:VEVENT
END:VCALENDAR